BEGIN:VCALENDAR
VERSION:2.0
X-WR-CALNAME:www.indybay.org
PRODID:-//indybay/ical// v1.0//EN
BEGIN:VEVENT
UID:Indybay-53703
SEQUENCE:53703
CREATED:20041209T000800Z
DESCRIPTION:Hand out leaflet opposing war toys and cost of war.  To see leaflet, go to 
 http://graypantherssf.igc.org/  Sponsored by San Francisco Gray Panthers 
 and Women's International League for Peace and Freedom, San Francisco 
 Branch.  \n https://www.indybay.org/newsitems/2004/12/08/53703.php
SUMMARY:Leafleting against war toys and cost of war
LOCATION:Meet by Admiral Dewey monument in center of Union Square.
URL:https://www.indybay.org/newsitems/2004/12/08/53703.php
DTSTART:20041211T200000Z
DTEND:20041211T210000Z
END:VEVENT
END:VCALENDAR
