BEGIN:VCALENDAR
VERSION:2.0
X-WR-CALNAME:www.indybay.org
PRODID:-//indybay/ical// v1.0//EN
BEGIN:VEVENT
UID:Indybay-53543
SEQUENCE:53543
CREATED:20041205T150200Z
DESCRIPTION:December 5, 2004  News Release					  For more information:   Call John 
 Rowntree, (916) 446-1758  P.O. Box 160406  Sacramento, CA 95816      In 
 Sacramento, Dec. 7 Book Discussion on U.S. Presidential Election  A free 
 discussion of a book titled The Best Democracy Money Can Buy: An 
 Investigative Reporter Exposes the Truth About Globalization, Corporate 
 Cons, and High-Finance Fraudsters by Greg Palast will be held on Tues., 
 Dec. 7 in Room 12, Sierra 2 Center, 2791 24th St., Sacto.    The Marxist 
 School of Sacramento is the sponsor, and the public is welcome.  Phone 
 (916) 446-1758.                               ###  \n 
 https://www.indybay.org/newsitems/2004/12/05/53543.php
SUMMARY:In Sacramento, Dec. 7 Book Discussion on U.S. Presidential Election
LOCATION:Room 12, Sierra 2 Center, 2791 24th St., Sacto.  
URL:https://www.indybay.org/newsitems/2004/12/05/53543.php
DTSTART:20041208T030000Z
DTEND:20041208T050000Z
END:VEVENT
END:VCALENDAR
