BEGIN:VCALENDAR
VERSION:2.0
X-WR-CALNAME:www.indybay.org
PRODID:-//indybay/ical// v1.0//EN
BEGIN:VEVENT
UID:Indybay-53193
SEQUENCE:53193
CREATED:20041202T020900Z
DESCRIPTION:Thurs. December, 9th  AK Press Holiday Blow Out Sale!  3 PM - 10 PM  FREE!  
 at the AK Press Warehouse  Radical book sale!  This is your chance.  Buy  
 all those holiday gifts for your loved comrades and family. Everything in 
 the AK Press warehouse, books, t-shirts, CDs, DVDs, videos, calendars, 
 zines, pamphlets... etc.., will be 25% off.  There will also be remainders, 
 overstock and damages available between $1-$5.  Don't miss this chance to 
 stock up on all of this years most exciting radical reads from your 
 friendly neighborhood collective.  Huge.  Refreshments will be served.\n 
 https://www.indybay.org/newsitems/2004/12/01/53193.php
SUMMARY:AK Press Holiday Blow Out Sale!
LOCATION:Events are at the AK Press Warehouse  AK Press 674-A 23rd. St Oakland, CA  
 b/t MLK and San Pablo - near 19th St. BART and West Grand Exit of 80/980  
 For more info contact:  AK Press at 510.208.1700, josh@akpress.org or visit 
 http://www.akpress.org  All events at AK Press are wheelchair accessible.
URL:https://www.indybay.org/newsitems/2004/12/01/53193.php
DTSTART:20041209T230000Z
DTEND:20041210T060000Z
END:VEVENT
END:VCALENDAR
