BEGIN:VCALENDAR
VERSION:2.0
X-WR-CALNAME:www.indybay.org
PRODID:-//indybay/ical// v1.0//EN
BEGIN:VEVENT
UID:Indybay-52513
SEQUENCE:52513
CREATED:20041122T002400Z
DESCRIPTION:Friday, December 3  6:30-8:30 PM  The Reedley Peace Center presents Gail 
 Harder and the program - WALKING ALONGSIDE TEEN MOMS IN REEDLEY. She will 
 share her experiences as a mentor mom‹‹how she got involved in the 
 program and what she has learned and experienced. She will also share some 
 of the girls’ stories.  Light potluck at 6:30. Program begins at 7 pm. 
 This event is sponsored by the Reedley Peace Center and will be held at the 
 Fellowship Hall of First Mennonite Church, on 'L' street between 12th and 
 13th streets in Reedley. Admission is free. Contact Don Friesen by email at 
 dfriesen@telis.org \n 
 https://www.indybay.org/newsitems/2004/11/21/52513.php
SUMMARY:WALKING ALONGSIDE TEEN MOMS IN REEDLEY
LOCATION:Fellowship Hall of First Mennonite Church, on 'L' street between 12th and 
 13th streets in Reedley
URL:https://www.indybay.org/newsitems/2004/11/21/52513.php
DTSTART:20041204T023000Z
DTEND:20041204T043000Z
END:VEVENT
END:VCALENDAR
