BEGIN:VCALENDAR
VERSION:2.0
X-WR-CALNAME:www.indybay.org
PRODID:-//indybay/ical// v1.0//EN
BEGIN:VEVENT
UID:Indybay-52503
SEQUENCE:52503
CREATED:20041122T002200Z
DESCRIPTION:Friday, December 3   5 PM and 8 PM  Fresno Filmworks presents Vodka Lemon 
 at the Tower Theatre. This portrait of a remote Armenian village, 
 impoverished since the end of Soviet rule, blends whimsical humor with 
 mournful pathos. The Armenian Studies Program at CSU, Fresno, is 
 co-sponsor. Tickets can be purchased at the Tower Theatre Box Office, 815 
 E. Olive Ave., The Movies, 1435 N. Van Ness Ave., the Fig Garden Bookstore 
 in Fig Garden Village, and at the door. Tickets are $9.00; $7.00, for 
 students and seniors. For more information call the FFW info line, 
 221-0755, or go to http://fresnofilmworks.org/ \n 
 https://www.indybay.org/newsitems/2004/11/21/52503.php
SUMMARY:Fresno Filmworks presents Vodka Lemon
LOCATION:Tower Theater in Fresno
URL:https://www.indybay.org/newsitems/2004/11/21/52503.php
DTSTART:20041204T010000Z
DTEND:20041204T030000Z
END:VEVENT
END:VCALENDAR
