BEGIN:VCALENDAR
VERSION:2.0
X-WR-CALNAME:www.indybay.org
PRODID:-//indybay/ical// v1.0//EN
BEGIN:VEVENT
UID:Indybay-52353
SEQUENCE:52353
CREATED:20041118T082200Z
DESCRIPTION:PLEASE DISTRIBUTE WIDELY  Please do what you can to attend.  They are 
 trying to drop the indictment charge of voluntary manslaughter   against 
 Michael Walker who shot and killed Rudy Cardenas in cold blood   last 
 February. Please do what you can to be there on Friday morning, it   is 
 important for them to see that the people don't want the charges   
 dismissed. We also need to show solidarity with the family, this has to   
 be extremely difficult for them.  in solidarity,  donna  Dear Friends:    
 Please try to attend an important court hearing in the Cardenas case   on 
 Friday November 19, 2004 at 9:00 am in Department 33 - 190 W.   Hedding 
 st,. San Jose.  The attorney for Michael Walker has filed a   motion to 
 dismiss the case.  We do not know what will happen - please   try to make 
 some time to attend!  Richard Konda  Phone:  408-287-9710  email:  
 sccala@pacbell.net\n https://www.indybay.org/newsitems/2004/11/18/52353.php
SUMMARY:Important Hearing in Rudy Cardenas Case
LOCATION:Department 33 - 190 W. Hedding st,. San Jose.
URL:https://www.indybay.org/newsitems/2004/11/18/52353.php
DTSTART:20041119T170000Z
DTEND:20041119T190000Z
END:VEVENT
END:VCALENDAR
