BEGIN:VCALENDAR
VERSION:2.0
X-WR-CALNAME:www.indybay.org
PRODID:-//indybay/ical// v1.0//EN
BEGIN:VEVENT
UID:Indybay-51423
SEQUENCE:51423
CREATED:20041108T184800Z
DESCRIPTION:Protest the full blown attack on those opposed to the occupation of Iraq in 
 the city of Falluja.   \n 
 https://www.indybay.org/newsitems/2004/11/08/51423.php
SUMMARY:Demonstration against the attack on Falluja, Iraq
LOCATION:Powell & Market
URL:https://www.indybay.org/newsitems/2004/11/08/51423.php
DTSTART:20041110T010000Z
DTEND:20041110T030000Z
END:VEVENT
END:VCALENDAR
