BEGIN:VCALENDAR
VERSION:2.0
X-WR-CALNAME:www.indybay.org
PRODID:-//indybay/ical// v1.0//EN
BEGIN:VEVENT
UID:Indybay-513
SEQUENCE:513
CREATED:20040203T182400Z
DESCRIPTION:\n https://www.indybay.org/newsitems/2004/02/03/513.php
SUMMARY:People Have The Power Rally w Ralph Nader, Spearhead's Michael Franti,  John Bur
LOCATION:San Francisco Masonic Center\n1111 California St. @ Taylor\n
URL:https://www.indybay.org/newsitems/2004/02/03/513.php
DTSTART:20011012T003000Z
DTEND:20011012T053000Z
END:VEVENT
END:VCALENDAR
