BEGIN:VCALENDAR
VERSION:2.0
X-WR-CALNAME:www.indybay.org
PRODID:-//indybay/ical// v1.0//EN
BEGIN:VEVENT
UID:Indybay-51203
SEQUENCE:51203
CREATED:20041104T192200Z
DESCRIPTION:Come make noise with us in Sacramento!!!!   Bring Signs, Banners, 
 noisemakers, Fun dressup,  YOUR VOICE, boombox    Light for your bike and 
 be ready to peddle the downtown streets to show your response to this 
 election and the state of our nation.   \n 
 https://www.indybay.org/newsitems/2004/11/04/51203.php
SUMMARY:Critical mass Sacramento ANTI- BUSH .....
LOCATION:Gather at Freemont Park  15 th and Q st across from the Naked Lounge 
URL:https://www.indybay.org/newsitems/2004/11/04/51203.php
DTSTART:20041106T010000Z
DTEND:20041106T000000Z
END:VEVENT
END:VCALENDAR
