BEGIN:VCALENDAR
VERSION:2.0
X-WR-CALNAME:www.indybay.org
PRODID:-//indybay/ical// v1.0//EN
BEGIN:VEVENT
UID:Indybay-51053
SEQUENCE:51053
CREATED:20041103T111300Z
DESCRIPTION:SPAZ BRUNCH YEAH!!!  This Sunday - November 7th  berkeley del norte  YAY 
 MUSIC!!!! SNAZZY VEGAN FOOD!!!!  Randy Savage N Jabberjaw WANT YOU TO COME 
 VISIT!!! OHHH YHEAA  --( ALSO! )--  Feature Movie: "Bum's Paradise"  8:30 
 PM  Bums' Paradise is a 53-minute documentary that depicts the lives of the 
 men and women who lived in the ten-year-old Albany Landfill community prior 
 to their eviction. It follows them through the eviction and documents them 
 one month after the eviction. The film emphasizes their concepts of 
 community as well as the amazing art that they created.   
 http://www.bumsparadise.com  info-line #: 1-800-GUN-NUMB  Berkeley, CA : 
 call Sunday for location info.  $5 sliding scale  \n 
 https://www.indybay.org/newsitems/2004/11/03/51053.php
SUMMARY:SPAZ Brunch + Movie Night
LOCATION:call our info-line on the day of the event for specific directions.
URL:https://www.indybay.org/newsitems/2004/11/03/51053.php
DTSTART:20041107T200000Z
DTEND:20041108T000000Z
END:VEVENT
END:VCALENDAR
