BEGIN:VCALENDAR
VERSION:2.0
X-WR-CALNAME:www.indybay.org
PRODID:-//indybay/ical// v1.0//EN
BEGIN:VEVENT
UID:Indybay-50703
SEQUENCE:50703
CREATED:20041029T062300Z
DESCRIPTION:November 3, 2004  Victory Celebration /Next Steps and Direct Actions  Marin 
 Actions  Chalk the sidewalks, Vigil with signs promoting alternative media 
 in the AM  Vigil about the unfinished agenda in the PM  Meet at College of 
 Marin, in front of Olney Hall at 12 noon for community  gathering/support 
 and next steps pow wow! Keep posted for more next week. \n 
 https://www.indybay.org/newsitems/2004/10/28/50703.php
SUMMARY:Victory Celebration /Next Steps and Direct Action
LOCATION:College of Marin, in front of Olney Hall at 12 noon
URL:https://www.indybay.org/newsitems/2004/10/28/50703.php
DTSTART:20041103T200000Z
DTEND:20041103T210000Z
END:VEVENT
END:VCALENDAR
