BEGIN:VCALENDAR
VERSION:2.0
X-WR-CALNAME:www.indybay.org
PRODID:-//indybay/ical// v1.0//EN
BEGIN:VEVENT
UID:Indybay-5063
SEQUENCE:5063
CREATED:20040203T182500Z
DESCRIPTION:Come participate in the Bay Area Seed Interchange Library's annual Seed 
 Swap.  Bring seed and envelopes.  There will be a raffle for live plants.  
 From 7-9pm at the Ecology Center, 2530 San Pablo, Berkeley. Info: Michael, 
 510-823-4769.\n https://www.indybay.org/newsitems/2004/02/03/5063.php
SUMMARY:Seed Swap
LOCATION:At the Ecology Center, 2530 San Pablo Ave, Berkeley.
URL:https://www.indybay.org/newsitems/2004/02/03/5063.php
DTSTART:20020329T030000Z
DTEND:20020329T050000Z
END:VEVENT
END:VCALENDAR
