BEGIN:VCALENDAR
VERSION:2.0
X-WR-CALNAME:www.indybay.org
PRODID:-//indybay/ical// v1.0//EN
BEGIN:VEVENT
UID:Indybay-50513
SEQUENCE:50513
CREATED:20041026T212400Z
DESCRIPTION:Come to the 5th ever Do-It-Yourself Festival and Skillshare. This time two 
 days!  Enjoy free information, music, food, and friends. Come to learn or 
 share a skill. We'll be in People's Park Saturday and in locations across 
 the East bay on Sunday. You can pick up a list of Sunday skillshare 
 locations on Saturday.  For more information, check out 
 http://www.barringtoncollective.org\n 
 https://www.indybay.org/newsitems/2004/10/26/50513.php
SUMMARY:Do-It-Yourself Festival and Skillshare
LOCATION:People's Park is located between Haste and Dwight, Telegraph and Bowditch, 
 in Berkeley.
URL:https://www.indybay.org/newsitems/2004/10/26/50513.php
DTSTART:20041114T180000Z
DTEND:20041115T040000Z
END:VEVENT
END:VCALENDAR
