BEGIN:VCALENDAR
VERSION:2.0
X-WR-CALNAME:www.indybay.org
PRODID:-//indybay/ical// v1.0//EN
BEGIN:VEVENT
UID:Indybay-50453
SEQUENCE:50453
CREATED:20041026T071900Z
DESCRIPTION:Meeting of Stolen Lives Project volunteers to organize working on research 
 for the next editition of the book Stolen Lives.  We are collecting names 
 of people who were killed by law enforcement in the Bay Area.  We collect 
 names, write up a short story of who they were and how they died, and then 
 we enter them into a national database.  http://www.stolenlives.org\n 
 https://www.indybay.org/newsitems/2004/10/26/50453.php
SUMMARY:Stolen Lives Project Meeting
LOCATION:City Blend Cafe, 3087 16th St, near 16th St. BART
URL:https://www.indybay.org/newsitems/2004/10/26/50453.php
DTSTART:20041110T030000Z
DTEND:20041110T050000Z
END:VEVENT
END:VCALENDAR
