BEGIN:VCALENDAR
VERSION:2.0
X-WR-CALNAME:www.indybay.org
PRODID:-//indybay/ical// v1.0//EN
BEGIN:VEVENT
UID:Indybay-50083
SEQUENCE:50083
CREATED:20041023T163600Z
DESCRIPTION:San Francisco based band RELIC performs in full Medieval armor. Relic's 
 music can be categorized as progressive art rock, which in reviews often is 
 compared to Pink Floyd, early Genesis and Yes, King Crimson, Gong and Dream 
 Theater.   Visit their home page for details at http://www.relicscastle.com 
 \n https://www.indybay.org/newsitems/2004/10/23/50083.php
SUMMARY:..:: RELIC ::.. In Concert - Halloween Show!
LOCATION:Saturday, October 30th  The Aptos Club  Halloween Party featuring Relic!  
 7941 Soquel Drive  Aptos Ca 95003  (831) 688-9888  Show starts at 9:00pm  
URL:https://www.indybay.org/newsitems/2004/10/23/50083.php
DTSTART:20041031T040000Z
DTEND:20041031T050000Z
END:VEVENT
END:VCALENDAR
