BEGIN:VCALENDAR
VERSION:2.0
X-WR-CALNAME:www.indybay.org
PRODID:-//indybay/ical// v1.0//EN
BEGIN:VEVENT
UID:Indybay-49933
SEQUENCE:49933
CREATED:20041023T032600Z
DESCRIPTION:http://www.unembedded.org  Eleven Days of Cracking the Media Monopoly  
 October 21-31, 2004  Victoria Theatre San Francisco  THE UN-EMBEDDED FILM 
 SERIES will counter the effects of the corporate-government information 
 cartel. For eleven days, October 21-31, radical filmmakers will present 
 little-seen stories, from Iraq to NYC to the Bay Area and beyond, that 
 could effect the outcome of the current presidential campaign. The 
 un-embedded film series will take place at the Victoria Theatre, 2961 16th 
 Street, San Francisco. Several of the filmmakers will be present at the 
 theatre for discussions after the screenings.  Topics of the un-embedded 
 film series include: the Republican National Convention, the War in Iraq, 
 the Miami Model, the use of oil resources, outsourcing, and the war on the 
 poor in the USA.  The Victoria Theatre is located at 2961 16th Street at 
 Capp  Tickets are available at the Victoria Theatre Box Office, 
 415-863-7576, http://WWW.VICTORIATHEATRE.ORG or TICKETS.COM.  General 
 Admission tickets $9, students and seniors $5.  Pass for all films $35. 
 (Includes entry to 14 different programs.)  Audio PSAs: 
 http://www.indybay.org/news/2004/10/1699604.php   more info:  
 http://www.unembedded.org  \n 
 https://www.indybay.org/newsitems/2004/10/22/49933.php
SUMMARY:Unembedded, Indymedia Film Series
LOCATION:The Victoria Theatre  2961 16th Street at Capp
URL:https://www.indybay.org/newsitems/2004/10/22/49933.php
DTSTART:20041025T020000Z
DTEND:20041025T060000Z
END:VEVENT
END:VCALENDAR
