BEGIN:VCALENDAR
VERSION:2.0
X-WR-CALNAME:www.indybay.org
PRODID:-//indybay/ical// v1.0//EN
BEGIN:VEVENT
UID:Indybay-4983
SEQUENCE:4983
CREATED:20040203T182500Z
DESCRIPTION:THE STATE AND HEALTH OF REASON\nIN OUR DAY AND AGE\nPRESENTED BY  AM 
 FONDA\n\nIsn't it about time to take a look at the state of health of 
 REASON in this day and age?  When is the last time you had a checkup at a 
 doctor's office?  The history of our own state of health, and the health 
 and well-being of Humanity is a saga of well-being and sickness, cures, and 
 remedies.  Therapies that work for individuals also work for Humanity as a 
 whole.  Lets take a look at War and Peace, the evolution of philosophy, 
 spirituality and the role that REASON has played from prehistoric days to 
 the present.  From the shadows of the Oakland Fellowship Hall let's walk 
 along an archeological El Camino of Reason.  We may well spot trends of 
 deterioration, stabilization and cures along the way; we may traverse 
 several epochs and eras, elucidating points of interest from a humanist 
 perspective.  Along the way we may even illuminate fundamental principles 
 that have led to the stance the United Nations has adopted: that defending 
 human rights worldwide is a benign and worthwhile goal for all people of 
 all nations to pursue.  WE could not have arrived at this point if it were 
 not for healthy REASON.  Or could we?\n\n 
 https://www.indybay.org/newsitems/2004/02/03/4983.php
SUMMARY:The State and Health of Reason in our Day and Age
LOCATION:The Fellowship of Humanity\n390  27th  Street,  Oakland\nbetween Telegraph 
 & Broadway\nabove Downtown, below Pill Hill\n
URL:https://www.indybay.org/newsitems/2004/02/03/4983.php
DTSTART:20020324T200000Z
DTEND:20020324T210000Z
END:VEVENT
END:VCALENDAR
