BEGIN:VCALENDAR
VERSION:2.0
X-WR-CALNAME:www.indybay.org
PRODID:-//indybay/ical// v1.0//EN
BEGIN:VEVENT
UID:Indybay-49743
SEQUENCE:49743
CREATED:20041020T205000Z
DESCRIPTION:Shock and Awe,  Filmed by a member of the Human Shield organization,  Shock 
 and Awe is a film about the people of Iraq. Captured  in February 2003, two 
 weeks before the United States attacked them, this film offers a view into 
 Iraq that is not seen in the mainstream media. A question and answer 
 session with two Human Shields will follow the screening.  Sponsered by the 
 New College Department of Activism and  Social Change.  New College 
 Cultural Center  777 Valencia Street, SF  Wednesday, November 3rd  7 - 9 
 pm.\n https://www.indybay.org/newsitems/2004/10/20/49743.php
SUMMARY:Shock & Awe Film
LOCATION:New College of California   Cultural Center  777 Valencia Street, SF
URL:https://www.indybay.org/newsitems/2004/10/20/49743.php
DTSTART:20041103T200000Z
DTEND:20041103T220000Z
END:VEVENT
END:VCALENDAR
