BEGIN:VCALENDAR
VERSION:2.0
X-WR-CALNAME:www.indybay.org
PRODID:-//indybay/ical// v1.0//EN
BEGIN:VEVENT
UID:Indybay-48393
SEQUENCE:48393
CREATED:20041007T165700Z
DESCRIPTION:This Saturday  San Francisco's new pirate radio station, KULT Radio is 
 joining forces with Pawnbrokers Gallery so that all of you in san francisco 
 can dance, drink and conspire to the sounds of locally based funk and 
 hip-hop. $3 donation at door with two bars and a whole new world inside.  
 \n https://www.indybay.org/newsitems/2004/10/07/48393.php
SUMMARY:Kult Radio Benefit
LOCATION:Newly opened PAWNBROKERS Gallery at 837 Larkin Street in the TL. 
URL:https://www.indybay.org/newsitems/2004/10/07/48393.php
DTSTART:20041010T030000Z
DTEND:20041010T090000Z
END:VEVENT
END:VCALENDAR
