BEGIN:VCALENDAR
VERSION:2.0
X-WR-CALNAME:www.indybay.org
PRODID:-//indybay/ical// v1.0//EN
BEGIN:VEVENT
UID:Indybay-4833
SEQUENCE:4833
CREATED:20040203T182500Z
DESCRIPTION:see thur. 2/21\n https://www.indybay.org/newsitems/2004/02/03/4833.php
SUMMARY:Spartacist Black History Month Forum
LOCATION:West Oakland Library  Rm 103B\n1801 Adeline St.
URL:https://www.indybay.org/newsitems/2004/02/03/4833.php
DTSTART:20020227T023000Z
DTEND:20020227T043000Z
END:VEVENT
END:VCALENDAR
