BEGIN:VCALENDAR
VERSION:2.0
X-WR-CALNAME:www.indybay.org
PRODID:-//indybay/ical// v1.0//EN
BEGIN:VEVENT
UID:Indybay-48183
SEQUENCE:48183
CREATED:20041006T054300Z
DESCRIPTION:Important: The actual times for this event are 3:15-5:30.\n\nAs part of the 
 Free Speech Movement 40th Anniversary celebration, there will be two panels 
 on Effective Strategies of Change. (The second will be on Friday 
 morning.)\n \nToday's panelists are:\nMichael Lerner [Tikkun]\nJohn Sellers 
 [Ruckus Society]\nDavid Solnit [Art & Revolution]\nKevin Dannaher [Global 
 Exchange]\n\n https://www.indybay.org/newsitems/2004/10/05/48183.php
SUMMARY:Leading Activists Discuss Effective Strategies of Change
LOCATION:2050 Valley Life Sciences Building, U.C. Berkeley\nValley Life Sciences 
 Building is at coordinates C3 on this map.
URL:https://www.indybay.org/newsitems/2004/10/05/48183.php
DTSTART:20041006T220000Z
DTEND:20041007T000000Z
END:VEVENT
END:VCALENDAR
