BEGIN:VCALENDAR
VERSION:2.0
X-WR-CALNAME:www.indybay.org
PRODID:-//indybay/ical// v1.0//EN
BEGIN:VEVENT
UID:Indybay-47853
SEQUENCE:47853
CREATED:20040928T045400Z
DESCRIPTION:Produced by Castro Street Fair, a non-profit organization, the Fair 
 generates funds for charitable causes important to the Castro Community. 
 Proceeds are earned directly from you by patronizing the various vendors 
 and organizations that have booths at the Fair. Vendors of all varieties 
 from the Bay Area and beyond promote their goods and services, including 
 food and beverages, arts and crafts, and a wide variety of retail items. 
 Dozens of community organizations promote community and social support. 
 Non-stop outdoor dancing pavilions are one of the most popular features of 
 the Fair! http://www.castrostreetfair.org/  Castro and Market Streets  11a 
 to 6p\n https://www.indybay.org/newsitems/2004/09/27/47853.php
SUMMARY:Castro Street Fair
LOCATION:Castro Street, starting around Market Street
URL:https://www.indybay.org/newsitems/2004/09/27/47853.php
DTSTART:20041004T060000Z
DTEND:20041004T130000Z
END:VEVENT
END:VCALENDAR
