BEGIN:VCALENDAR
VERSION:2.0
X-WR-CALNAME:www.indybay.org
PRODID:-//indybay/ical// v1.0//EN
BEGIN:VEVENT
UID:Indybay-47743
SEQUENCE:47743
CREATED:20040926T082800Z
DESCRIPTION:FAHRENHEIT 911  Michael Moore's latest work of political art regarding the 
 Bush regime and its corrupt wars.  Donation of $3-$5 expected  But no one 
 will be turned away for lack of funds.\n 
 https://www.indybay.org/newsitems/2004/09/26/47743.php
SUMMARY:FAHRENHEIT 911
LOCATION:Humanist Hall  390  27th  Street  midtown Oakland  between Telegraph and 
 Broadway  below Pill Hill  parking next door off both   27th and 28th 
 Streets
URL:https://www.indybay.org/newsitems/2004/09/26/47743.php
DTSTART:20041028T020000Z
DTEND:20041028T040000Z
END:VEVENT
END:VCALENDAR
