BEGIN:VCALENDAR
VERSION:2.0
X-WR-CALNAME:www.indybay.org
PRODID:-//indybay/ical// v1.0//EN
BEGIN:VEVENT
UID:Indybay-47713
SEQUENCE:47713
CREATED:20040926T184500Z
DESCRIPTION:TO SERVE and PROTECT  This film is a 60-minute documentary produced by UCSC 
 students about police brutality and the struggle to end it.  MOVE 
 CONFRONTATION  In the same evening, we will show this 50 minute documentary 
 about the police attack on the MOVE Organization in Philadelphia in 1978 
 and the police bombing of the MOVE headquarters in 1985.  MOVE is a 30-plus 
 year powerful and liberating organization for the people and all 
 life.\n\nDonations expected $3-$5\nBut no one will be turned away for lack 
 of funds\n https://www.indybay.org/newsitems/2004/09/26/47713.php
SUMMARY:TO SERVE & PROTECT and MOVE CONFRONTATION
LOCATION:Humanist Hall  390  27th  Street  midtown Oakland  between Telegraph and 
 Broadway  below Pill Hill  parking next door off both   27th and 28th 
 Streets
URL:https://www.indybay.org/newsitems/2004/09/26/47713.php
DTSTART:20041007T020000Z
DTEND:20041007T040000Z
END:VEVENT
END:VCALENDAR
