BEGIN:VCALENDAR
VERSION:2.0
X-WR-CALNAME:www.indybay.org
PRODID:-//indybay/ical// v1.0//EN
BEGIN:VEVENT
UID:Indybay-47683
SEQUENCE:47683
CREATED:20040925T181800Z
DESCRIPTION:A three person comedy review about global warming that uses humor to skewer 
 some of the lunatic forces drivingn us toward the edge and to point at 
 potential solutions. "If Moliere were Vonnegut in an earlier life, this 
 would have been his play." Bill Bertis, Clean Air-Cool Planet. "If this 
 show doesn’t change the world, I don’t know what will." Jerry Martien, 
 Author, Shell Game\n https://www.indybay.org/newsitems/2004/09/25/47683.php
SUMMARY:What's Funny About Climate Change?
LOCATION:Theater for the New City, 155 First Avenue (Between Ninth and Tenth 
 Streets, New York City  Five performances. Wed-Saturday 8:00 PM Sunday, 
 2:00 PM
URL:https://www.indybay.org/newsitems/2004/09/25/47683.php
DTSTART:20051021T030000Z
DTEND:20051021T040000Z
END:VEVENT
END:VCALENDAR
