BEGIN:VCALENDAR
VERSION:2.0
X-WR-CALNAME:www.indybay.org
PRODID:-//indybay/ical// v1.0//EN
BEGIN:VEVENT
UID:Indybay-47663
SEQUENCE:47663
CREATED:20040925T031200Z
DESCRIPTION:Reportback from Pierre Laboissiere and Leilani Dowell, who both travelled 
 to Haiti this year.  Also building for the Million Worker March  $5-10 
 donation requested, noone turned away for lack of funds.\n 
 https://www.indybay.org/newsitems/2004/09/24/47663.php
SUMMARY:U.S. Hands off Haiti (MWM event)
LOCATION:Friends Meeting House  65 9th St, btw Mission and Market  
URL:https://www.indybay.org/newsitems/2004/09/24/47663.php
DTSTART:20041002T020000Z
DTEND:20041002T050000Z
END:VEVENT
END:VCALENDAR
