BEGIN:VCALENDAR
VERSION:2.0
X-WR-CALNAME:www.indybay.org
PRODID:-//indybay/ical// v1.0//EN
BEGIN:VEVENT
UID:Indybay-47343
SEQUENCE:47343
CREATED:20040921T230800Z
DESCRIPTION:Justin BUA an urban artisit will be @ OFF the Wall signing posters and 
 chatting it up. Go to www. justinbua.com for more info.\n 
 https://www.indybay.org/newsitems/2004/09/21/47343.php
SUMMARY:BUA Poster Signing
LOCATION:Off The Wall  1669 Haight Street  San Francisco, CA 94117
URL:https://www.indybay.org/newsitems/2004/09/21/47343.php
DTSTART:20040926T210000Z
DTEND:20040927T010000Z
END:VEVENT
END:VCALENDAR
