BEGIN:VCALENDAR
VERSION:2.0
X-WR-CALNAME:www.indybay.org
PRODID:-//indybay/ical// v1.0//EN
BEGIN:VEVENT
UID:Indybay-46583
SEQUENCE:46583
CREATED:20040912T181600Z
DESCRIPTION:On Sunday, Sept. 18, there will be free art activities for kids ages 5-10 
 at San Francisco's Precita Park, Treat and Cesar Chavez from 10 a.m. to 1 
 p.m..    Sponsored by School Board members Mark Sanchez and Eric Mar, the 
 goal is to promote arts in public schools and show how arts help students 
 learn science, math and other subjects.  Art activities will include 
 printmaking, pinwheels, sandcandles and portraits.  There will also be 
 discussion on how to use these art activities to help support learning in 
 science, math, social sciences and history.    For more information, call 
 (415) 290-2706 or go to http://www.marksanchez.org.\n 
 https://www.indybay.org/newsitems/2004/09/12/46583.php
SUMMARY:Free Art in the Park for Kids 5-10
LOCATION:Precita Park, Treat and Harrison
URL:https://www.indybay.org/newsitems/2004/09/12/46583.php
DTSTART:20040918T170000Z
DTEND:20040918T200000Z
END:VEVENT
END:VCALENDAR
