BEGIN:VCALENDAR
VERSION:2.0
X-WR-CALNAME:www.indybay.org
PRODID:-//indybay/ical// v1.0//EN
BEGIN:VEVENT
UID:Indybay-45913
SEQUENCE:45913
CREATED:20040903T175500Z
DESCRIPTION:New Progressive Left Movement presents:  A Public Endorsement Forum for 
 candidates and Local propositions.  Come to discuss the candidates for the 
 Board of Supervisors and the School Board we are proposing for endorsement. 
   Public Discussion and Vote on (Bonds, Bonds, Bonds!)Proposition A 
 (Housing); F -- Non-citizens Voting School Board Elections and Taxes: J 
 (Sales Tax increase), K (Business Tax) and N -- the antiwar Declaration of 
 Policy.  Speakers pro and con, candidates' presentations and Q&A period, 
 panel to discuss propositions and more. "Cast your ballot" is also included 
 as well as a presentation on RCV/IRV voting system.   5$ donation requested 
 -- no one turned away for lack of funds.   Wednesday, September 8 -- 6 PM  
 Women's Building  3543 18th   Mission District  For more information (415) 
 452-9992  Organized by the New Progressive Left Movement, an alliance of 
 greens, socialists, independents and community and labor activists.     \n 
 https://www.indybay.org/newsitems/2004/09/03/45913.php
SUMMARY:NPLM Endorsement Night
LOCATION:Women's Building  3543 18th   Mission District  For more information (415) 
 452-9992
URL:https://www.indybay.org/newsitems/2004/09/03/45913.php
DTSTART:20040909T010000Z
DTEND:20040909T040000Z
END:VEVENT
END:VCALENDAR
