BEGIN:VCALENDAR
VERSION:2.0
X-WR-CALNAME:www.indybay.org
PRODID:-//indybay/ical// v1.0//EN
BEGIN:VEVENT
UID:Indybay-45843
SEQUENCE:45843
CREATED:20040902T195600Z
DESCRIPTION:The Coalition on Homelessness proudly invites you to attend :ArtAuction04  
 Celebrating 15 Years of the STREET SHEET, Thursday, September 9th, 2004   
 SomArts Gallery, 934 Brannan Street (between 8th & 9th Streets) San 
 Francisco. Reception and registration begins at 6pm. Hors d'oevres, buffet 
 dinner and silent auction 6-9pm. Live auction begins at 7:30pm.   Sliding 
 scale admission $10-$40.  As the oldest continuously-published "street 
 newspaper" in the world, for 15 years STREET SHEET has featured art from 
 homeless, as well as established local artists. ArtAuction04 features an 
 eclectic collection ranging from edgy political and "outsider" art, to more 
 traditional works, including local printmaker and longtime contributor Art 
 Hazelwood, who observed "The ability to produce artwork of social and 
 political relevance and to have it published and distributed was a powerful 
 incentive that moved me both as an artist and as a human being into a more 
 engaged existence. The STREET SHEET allowed me to expand both my art and my 
 vision of the role of art in society."  ArtAuction04 featured artist Alicia 
 McCarthy echoes similar feelings: "It's important to participate in events 
 like this because its one way for an artist to be a part of direct change, 
 just trying to change some of the social injustice in the world."  When: 
 6pm Thursday, September 9th, 2004  What: ArtAuction04 Benefit Celebrating 
 15 Years of the STREET SHEET  Who: Coalition on Homelessness art auction 
 and community event featuring works by: Barry McGee, Art Hazelwood, 
 Christine Hanlon, Eric Drooker, Alicia McCarthy, Rigo, Chris Johanson, 
 Mattilda (aka Matt Bernstein), and MANY  MORE!  Where: SomArts Gallery, 934 
 Brannan Street (between 8th & 9th Streets), San Francisco 94103  Admission: 
 sliding scale $10‹$40  Event info:   Contact Mara Raider or Tim Hackett 
 at 415 346 3740  ----  STREET SHEET  A Publication of the Coalition on 
 Homelessness, San Francisco  468 Turk Street, San Francisco, CA  94102  415 
 / 346.3740-voice € 415 / 775.5639-fax  
 streetsheet@sf-homeless-coalition.org  http://www.sf-homeless-coalition.org 
  \n https://www.indybay.org/newsitems/2004/09/02/45843.php
SUMMARY:StReeT SHeet : 15 YEARS !!! Celebration + Art Auction
LOCATION:934 Brannan St.  ( betw. 8th and 9th St. )  San Francisco
URL:https://www.indybay.org/newsitems/2004/09/02/45843.php
DTSTART:20040910T010000Z
DTEND:20040910T040000Z
END:VEVENT
END:VCALENDAR
