BEGIN:VCALENDAR
VERSION:2.0
X-WR-CALNAME:www.indybay.org
PRODID:-//indybay/ical// v1.0//EN
BEGIN:VEVENT
UID:Indybay-45453
SEQUENCE:45453
CREATED:20040827T215600Z
DESCRIPTION:The Green Team meets every Saturday morning at 9 a.m. to support the 
 Driscoll For Congress and the Ken Adams For School Board campaigns.  We 
 have a variety of things that can be done in an hour or two:  > flyer a 
 precinct  > help stuff campaign envelopes  > phone banking  > making 
 campaign materials  > tabling  Come on down and have a great time 
 supporting progressive politics in Sacramento!  Light refreshments will be 
 provided.\n https://www.indybay.org/newsitems/2004/08/27/45453.php
SUMMARY:Driscoll For Congress Mobilization
LOCATION:926 J Street, Sacramento CA
URL:https://www.indybay.org/newsitems/2004/08/27/45453.php
DTSTART:20040828T160000Z
DTEND:20040828T170000Z
END:VEVENT
END:VCALENDAR
