BEGIN:VCALENDAR
VERSION:2.0
X-WR-CALNAME:www.indybay.org
PRODID:-//indybay/ical// v1.0//EN
BEGIN:VEVENT
UID:Indybay-45283
SEQUENCE:45283
CREATED:20040826T060300Z
DESCRIPTION: BEACHHEAD :The Arts In Defence of Dissent:   Free public art show with 
 live music by Pono and others   performance art by Omni Circus, Spoken word 
 and Poetry,  by Jack Hirschman and many many more. And an Art show.  Some 
 speakers include:Vets For Peace,The First Amendment Project,Supervisor Matt 
 Gonzalaz.  And A FREEDOM OF EXPRESSION CANVAS for you to participate.  
 http://www.thenetworkgirl.com/gcagnorthbeach.asp  PLEASE COME JOIN US. If 
 intrested in showing your art contact melindahawk@earthlink.net  \n 
 https://www.indybay.org/newsitems/2004/08/25/45283.php
SUMMARY:BEACHHEAD
LOCATION:Washington Square Park in North Beach
URL:https://www.indybay.org/newsitems/2004/08/25/45283.php
DTSTART:20040828T200000Z
DTEND:20040829T010000Z
END:VEVENT
END:VCALENDAR
