BEGIN:VCALENDAR
VERSION:2.0
X-WR-CALNAME:www.indybay.org
PRODID:-//indybay/ical// v1.0//EN
BEGIN:VEVENT
UID:Indybay-45193
SEQUENCE:45193
CREATED:20040824T201800Z
DESCRIPTION:A FAREWELL TO BUSH PARTY  BRING BALLOONS, PARTY HATS AND PARAPHERNALIA, 
 NOISE-MAKERS, SIGNS, BANNERS, MUSICAL INSTRUMENTS TO BID FAREWELL TO 
 BUSH.\n https://www.indybay.org/newsitems/2004/08/24/45193.php
SUMMARY:FAREWELL TO BUSH!
LOCATION:SAN ANSELMO HUB, SAN ANSELMO.  CORNER OF 4TH STREET AND SIR FRANCIS DRAKE 
 BLVD.
URL:https://www.indybay.org/newsitems/2004/08/24/45193.php
DTSTART:20040831T140000Z
DTEND:20040831T160000Z
END:VEVENT
END:VCALENDAR
