BEGIN:VCALENDAR
VERSION:2.0
X-WR-CALNAME:www.indybay.org
PRODID:-//indybay/ical// v1.0//EN
BEGIN:VEVENT
UID:Indybay-44933
SEQUENCE:44933
CREATED:20040820T033900Z
DESCRIPTION:"OUR RELATIONSHIPS WITH OTHER SPECIES"\nwith Seon O'Neil and Lauren Renee 
 Hotchkiss\n\nAll Welcome-followed by lunch and conversation\n\nSunday 
 Service Aug. 22 10:30am \nBerkeley Fellowship of Unitarian Universalists 
 \n1924 Cedar (at Bonita) in Berkeley \nMAP       Directions\n\n 
 https://www.indybay.org/newsitems/2004/08/19/44933.php
SUMMARY:OUR RELATIONSHIPS WITH OTHER SPECIES
LOCATION:Berkeley Fellowship of Unitarian Universalists  1924 Cedar at Bonita, 
 Berkeley  (between M. L. King, Jr. Way and Shattuck Avenue)  AC Transit Bus 
 7, 9, 43 or 15 to Cedar Street
URL:https://www.indybay.org/newsitems/2004/08/19/44933.php
DTSTART:20040822T173000Z
DTEND:20040822T193000Z
END:VEVENT
END:VCALENDAR
