BEGIN:VCALENDAR
VERSION:2.0
X-WR-CALNAME:www.indybay.org
PRODID:-//indybay/ical// v1.0//EN
BEGIN:VEVENT
UID:Indybay-44793
SEQUENCE:44793
CREATED:20040817T021200Z
DESCRIPTION:The Tiburon Film Society will present the following films at the Bay Club 
 Marin, 220 Corte Madera Town Center in Corte Madera, @7pm, on the 3rd 
 Thursday of each month.   For more information, please contact TIFF at: 
 (415) 381-4123, or Bay Club at: (415) 945-3000.   
 **************************************************  Next:  Thursday, August 
 19, 2004: "Get A Way" (France); Short: "Hot Winter Night" (US) *   
 *************************************************    Hot Winter Night*      
   Running Time:  3 minutes   Country:  USA   Cast:  Sylvia Binsfeld, David 
 Sydney Scott, Marc Siciliani, Wolfgang Wein   Director:  Sylvia Binsfeld 
 (In Person)   Description:  Hot Winter Night is a hauntingly romantic story 
 about one night of love and secrets. It has a sultry, Bluesy, Bourbon 
 Street feel and a film noir look. The story is told without the use of 
 words, using only the universal language of music.        Get A Way        
 Running Time:  88 minutes   Country:  France   Cast:  Anne Agnes Roland, 
 Didier Maxime Desmons, Christian Sinniger, Chantal Bronner, Josy Bernard  
 Director:  Noah Nuer  Description:  Life's events pass us by but how often 
 do we really shift the way we run our life, especially when we don't intend 
 to! Sometimes the magic of two people, without planning on it, makes that 
 happen for each other. Didier and Anne, both trying to get away from their 
 lives, literally bump into one another on the streets of Paris and, through 
 a series of adventures, set about creating a revolution in their lives.     
  GET A WAY is a charming tale of a weekend of run-away and transformation 
 for two strangers who become touchstones for one another. Clear-eyed, 
 witty, earnest, and entirely original, this is a film of friendship (and 
 more?) in all its potential, an exploration of what we all have in common: 
 our need not to get away, but rather to get a way - - to create what we 
 really want.      ****************************************   Coming:    
 Thursday, September 16, 2004: "Entertaining Vietnam" (US)*; Short: "Eternal 
 Gaze" (US)    Thursday, October 21, 2004: "Anita Takes A Chance" (Spain); 
 Short: "Still Life" (US)    Thursday, November 18, 2004: "Bellissima" 
 (Poland); Short: "Love Parade" (Georgia)   
 **************************************  Please visit our website for the 
 film descriptions and the filmmakers biographies.   * The filmmaker in 
 person for Q & A.  *************************************  Tiburon 
 International Film Festival     Phone: (415) 381-4123  Fax: (415) 388- 4123 
  info@tiburonfilmfestival.com  http://www.tiburonfilmfestival.com  1680 
 Tiburon Boulevard, Tiburon, CA 94920 USA  "Understanding the World through 
 Film”®   \n https://www.indybay.org/newsitems/2004/08/16/44793.php
SUMMARY:Tiburon Film Society
LOCATION:Bay Club Marin  220 Corte Madera Town Center   Corte Madera
URL:https://www.indybay.org/newsitems/2004/08/16/44793.php
DTSTART:20040820T020000Z
DTEND:20040820T040000Z
END:VEVENT
END:VCALENDAR
