BEGIN:VCALENDAR
VERSION:2.0
X-WR-CALNAME:www.indybay.org
PRODID:-//indybay/ical// v1.0//EN
BEGIN:VEVENT
UID:Indybay-44273
SEQUENCE:44273
CREATED:20040805T011300Z
DESCRIPTION:"The End of Suburbia:Oil Depletion and the Collapse of the Amercian Dream"- 
 With brutal honesty and a touch of irony, The End of Suburbia explores the 
 Amercian Way of Life as the planet approaches a critical era. With oil 
 prices at a 25 year high, and the prices of gasoline and food on the rise, 
 this film is  particularly timely. Questions and answers following the film 
 by Richard Heinberg, author of Powerdown: Options and Alternatives for a 
 Post Carbon World and David Room, Post Carbon Inistitute. There will be a 
 brief presentation about Post Carbon Oakland, a community group beginning 
 to prepare for a Post Carbon Age. Co-sponsored by Post Carbon Oakland and 
 Amalgamated Transit Union (Bart Transportation Workers). We recommed 
 arriving early; seating is limited.  \n 
 https://www.indybay.org/newsitems/2004/08/04/44273.php
SUMMARY:"The End of Suburbia"
LOCATION:Parkway Theater  1834 Park Blvd  Oakland California 94606
URL:https://www.indybay.org/newsitems/2004/08/04/44273.php
DTSTART:20040926T220000Z
DTEND:20040927T000000Z
END:VEVENT
END:VCALENDAR
