BEGIN:VCALENDAR
VERSION:2.0
X-WR-CALNAME:www.indybay.org
PRODID:-//indybay/ical// v1.0//EN
BEGIN:VEVENT
UID:Indybay-44103
SEQUENCE:44103
CREATED:20040803T163300Z
DESCRIPTION:Film Frenzy  Sat August 21st  1280 65th St @ Hollis  Emeryville, Ca 94608  
 7:30 pm sharp Vintage Film Fashion Show  8:30 pm sharp Film /Our Town by 
 Scott Hamilton  *$7 dollars ( but no one turned away for lack of funds)*  
 /Roll up to an industrial parking lot on the North-Oakland Emeryville 
 border and get ready for a balmy twilight of art, music and film. Lola's 
 Film Frenzy, is an summer monthly outdoor film series. The Frenzy is a 
 community event which brings neighborhoods together to watch great 
 independent film.   Voted best vintage clothing store in the East Bay, 
 these retro gals will be opening the Frenzy with a glamorous fashion show, 
 that reflects day and night ware of cinema chic days gone by. Original 
 designs also include!  *Our feature film* presentation this month will be 
 Scott Hamilton kennedy's award winning OUR TOWN.  Against all odds, the 
 students at Dominguez High School set out to put on the school’s first 
 theatrical production in more than 20 years. But what does Thornton 
 Wilder’s famous play about life in rural Grover’s Corners have to do 
 with Compton, California? OT: Our Town follows the students on their 
 discovery of the power of art and the human spirit.  Grab you chair and 
 blanket and come lounge underneath the stars at Lola's Film Frenzy.  We 
 have great door prizes from Pixar, Trader Joes, Rudy's Can't Fail Cafe and 
 Cinder Block Printers.  For more information and DIRECTIONS please visit 
 http://www.lolafilms.net or e-mail lola@lolafilms.net  Wheelchair 
 accessible. Please bring CHAIRS or BLANKETS to  sit on. Sorry No dogs !! 
 This film is child friendly, (there is some strong language)  We are 
 continually looking for films, If interested please contact 
 lola@lolafilms.net      \n 
 https://www.indybay.org/newsitems/2004/08/03/44103.php
SUMMARY:Lola's Film Frenzy
LOCATION:1280 65th St  Emeryville, Ca 94608  go to http://www.lolafilms.net for 
 directions
URL:https://www.indybay.org/newsitems/2004/08/03/44103.php
DTSTART:20040822T023000Z
DTEND:20040822T053000Z
END:VEVENT
END:VCALENDAR
