BEGIN:VCALENDAR
VERSION:2.0
X-WR-CALNAME:www.indybay.org
PRODID:-//indybay/ical// v1.0//EN
BEGIN:VEVENT
UID:Indybay-44063
SEQUENCE:44063
CREATED:20040803T025000Z
DESCRIPTION:Friday, August 20 @ 8:30 PM Film: "Manhattan" Directed by Woody Allen 1979  
 Free to the public.      Isaac Davis (Woody Allen) divorces his lesbian 
 wife after he begins an affair with 17 year old Tracy. Set on the grand NYC 
 stage.  This movie is brought to you as part of a New York movie series 
 attempting to get everyone in the mood for the RNC protests in beautiful 
 New York City.  The Long Haul is a not-for-profit radical community space 
 at 3124 Shattuck Ave., two blocks east of the Ashby BART. (510)540-0751  
 http://thelonghaul.org  \n 
 https://www.indybay.org/newsitems/2004/08/02/44063.php
SUMMARY:Manhattan movie screening
LOCATION:The Long Haul is a not-for-profit radical community space at 3124 Shattuck 
 Ave., two blocks east of the Ashby BART. (510)540-0751  
 http://thelonghaul.org  
URL:https://www.indybay.org/newsitems/2004/08/02/44063.php
DTSTART:20040821T033000Z
DTEND:20040821T053000Z
END:VEVENT
END:VCALENDAR
