BEGIN:VCALENDAR
VERSION:2.0
X-WR-CALNAME:www.indybay.org
PRODID:-//indybay/ical// v1.0//EN
BEGIN:VEVENT
UID:Indybay-43393
SEQUENCE:43393
CREATED:20040719T235100Z
DESCRIPTION:Saturday and Sunday - September 18 &19  Music 3:30 PM and Show at 4 PM  The 
 San Francisco Mime Troupe at Roeding Park in Fresno.  For more information 
 go to: http://www.sfmt.org/ \n 
 https://www.indybay.org/newsitems/2004/07/19/43393.php
SUMMARY:The San Francisco Mime Troupe
LOCATION:Roeding Park in Fresno
URL:https://www.indybay.org/newsitems/2004/07/19/43393.php
DTSTART:20040918T223000Z
DTEND:20040919T003000Z
END:VEVENT
END:VCALENDAR
