BEGIN:VCALENDAR
VERSION:2.0
X-WR-CALNAME:www.indybay.org
PRODID:-//indybay/ical// v1.0//EN
BEGIN:VEVENT
UID:Indybay-43193
SEQUENCE:43193
CREATED:20040717T190400Z
DESCRIPTION:San Francisco based band RELIC performs in full Medieval armor. Relic's 
 music can be categorized as progressive art rock, which in reviews often is 
 compared to Pink Floyd, early Genesis and Yes, King Crimson, Gong and Dream 
 Theater.  Visit their castle @ http://www.relicscastle.com\n 
 https://www.indybay.org/newsitems/2004/07/17/43193.php
SUMMARY:..:: RELIC ::.. Medieval Art Rock in concert
LOCATION:"Bands Fest" by Bands 4 Bands (outdoors concert)  Kennedy Park  Union City, 
 CA  
URL:https://www.indybay.org/newsitems/2004/07/17/43193.php
DTSTART:20040815T000000Z
DTEND:20040815T060000Z
END:VEVENT
END:VCALENDAR
