BEGIN:VCALENDAR
VERSION:2.0
X-WR-CALNAME:www.indybay.org
PRODID:-//indybay/ical// v1.0//EN
BEGIN:VEVENT
UID:Indybay-43173
SEQUENCE:43173
CREATED:20040717T183400Z
DESCRIPTION:San Francisco based band RELIC performs in full Medieval armor. Relic's 
 music can be categorized as progressive art rock, which in reviews oftern 
 is compared to Pink Floyd, early Genesis and Yes, King Crimson, Gong and 
 Dream Theater. Vist them at http://www.relicscastle.com\n 
 https://www.indybay.org/newsitems/2004/07/17/43173.php
SUMMARY:..:: RELIC ::.. - Medieval Art Rock
LOCATION:"Gaslighter Theatre"  400 East Campbell Ave  Campbell, CA 95008  (408) 
 866-1408
URL:https://www.indybay.org/newsitems/2004/07/17/43173.php
DTSTART:20040805T020000Z
DTEND:20040805T030000Z
END:VEVENT
END:VCALENDAR
