BEGIN:VCALENDAR
VERSION:2.0
X-WR-CALNAME:www.indybay.org
PRODID:-//indybay/ical// v1.0//EN
BEGIN:VEVENT
UID:Indybay-42833
SEQUENCE:42833
CREATED:20040715T202500Z
DESCRIPTION:From: Yolanda Hippensteele   Reply-To: list@freepress.net  To: 
 ssandron@hotmail.com  Subject: FCC hearing July 21 in Monterey, CA  Date: 
 Thu, 15 Jul 2004 15:17:24 -0500 (CDT)  Dear Friends,  The FCC (Federal 
 Communications Commission) is holding its next hearing on Localism in 
 Broadcasting in Monterey, CA on July 21.  This is one of only six official 
 FCC hearings being held across the country (for more information, see 
 http://www.freepress.net/townmeetings). It's an extremely rare opportunity 
 to tell the FCC about the state of your local media, how well TV and radio 
 are serving your needs, and how you feel about the increasing consolidation 
 of media ownership.  This hearing is especially important because a federal 
 court has recently ordered the FCC to rewrite its new media ownership 
 rules, which would have allowed big media conglomerates to get even bigger. 
  Here's your chance to tell the FCC in person that localism and diversity 
 cannot thrive under the effect of media consolidation. And demand that they 
 listen to the public before they rewrite the rules again.  The hearing will 
 be held at 6:00pm on Wednesday, July 21 at the Monterey Conference Center 
 (1 Portola Plaza, Monterey, CA).  Advance tickets will be distributed on 
 Monday evening and Wednesday morning at the Conference Center.  For more 
 information, see http://www.freepress.net/townmeetings  Stand up and make 
 your voice heard on July 21!  Sincerely,  Yolanda Hippensteele  Free Press  
 P.S. It's crucial to spread the word. Please e-mail this message to anybody 
 you know who might be interested./*Your email ID. --*/  \n 
 https://www.indybay.org/newsitems/2004/07/15/42833.php
SUMMARY:FCC hearing July 21 in Monterey, CA
LOCATION:The FCC hearing on Localism in Broadcasting will be held at 6:00 p.m. on 
 Wed., July 21 at the Monterey Conference Center at 1 Portola Plaza, 
 Monterey, CA
URL:https://www.indybay.org/newsitems/2004/07/15/42833.php
DTSTART:20040717T010000Z
DTEND:20040717T030000Z
END:VEVENT
END:VCALENDAR
