BEGIN:VCALENDAR
VERSION:2.0
X-WR-CALNAME:www.indybay.org
PRODID:-//indybay/ical// v1.0//EN
BEGIN:VEVENT
UID:Indybay-42743
SEQUENCE:42743
CREATED:20040714T022800Z
DESCRIPTION:we will be having an anarchist cafe in santa cruz this saturday at big 
 yellow house. there will be primitive skills share: cordage, lashing, fire 
 making, primitve structures etc... there will be tree climb training. wild 
 roots a radical primitive farming group is coming to show a slide show and 
 talk about urban foraging, farming, squatting, roadkill adventures and 
 more. resistant culture an indiginous hardcore band will be playing at well 
 (look them up at http://www.resistantculture.com) food not bombs will serve 
 at 6    we are asking for dontations at the door but no one turned away for 
 lack of funds\n https://www.indybay.org/newsitems/2004/07/13/42743.php
SUMMARY:santa cruz anarchist cafe/primitive skills share
LOCATION:big yellow house- 742 north branciforte between water and soquel
URL:https://www.indybay.org/newsitems/2004/07/13/42743.php
DTSTART:20040718T010000Z
DTEND:20040718T080000Z
END:VEVENT
END:VCALENDAR
