BEGIN:VCALENDAR
VERSION:2.0
X-WR-CALNAME:www.indybay.org
PRODID:-//indybay/ical// v1.0//EN
BEGIN:VEVENT
UID:Indybay-42043
SEQUENCE:42043
CREATED:20040709T015100Z
DESCRIPTION:Interested in being a part of the Central Valley Indymedia project?  There 
 will be a meeting for people who are interested in becoming involved.  The 
 meeting will take place Wednesday, July 14 at 7 PM  \n 
 https://www.indybay.org/newsitems/2004/07/08/42043.php
SUMMARY:Central Valley Indymedia meeting
LOCATION:Access Sacramento  Coloma Community Center  Mariposa Room/Media Lab  4623 T 
 Street  Sacramento, Ca. 95819  
URL:https://www.indybay.org/newsitems/2004/07/08/42043.php
DTSTART:20040715T020000Z
DTEND:20040715T030000Z
END:VEVENT
END:VCALENDAR
