BEGIN:VCALENDAR
VERSION:2.0
X-WR-CALNAME:www.indybay.org
PRODID:-//indybay/ical// v1.0//EN
BEGIN:VEVENT
UID:Indybay-42023
SEQUENCE:42023
CREATED:20040708T213200Z
DESCRIPTION:COME STAND UP TO THE  REBUBLICAN NATIONAL CONVENTION  NYC AUG 29-SEPT 2   A 
 meeting to discuss and plan direct actions against the Republican National 
 Convention  in New York City, August 29 to September 2.    Find out more, 
 get involved, come to NYC!  Downloadable flyer/more info at:  
 ActAgainstWar.org   Direct Action to Stop the War    Cosponsored by Reclaim 
 the Commons reclaimthecommons.net  \n 
 https://www.indybay.org/newsitems/2004/07/08/42023.php
SUMMARY:Bay Area Direct Action Mobilizing to RNC
LOCATION:New College of California, 777 Valencia, SF  (btwn 18th and 19th Sts.)  
URL:https://www.indybay.org/newsitems/2004/07/08/42023.php
DTSTART:20040718T190000Z
DTEND:20040718T210000Z
END:VEVENT
END:VCALENDAR
