BEGIN:VCALENDAR
VERSION:2.0
X-WR-CALNAME:www.indybay.org
PRODID:-//indybay/ical// v1.0//EN
BEGIN:VEVENT
UID:Indybay-4193
SEQUENCE:4193
CREATED:20040203T182500Z
DESCRIPTION:NOAM CHOMSKY 9/11 Speech and Denny Riley, a VIETNAM VETERAN, and special 
 guest speaker\n\nWe will show the Noam Chomsky Video on 9/11 and the War on 
 Terror.  Additionally we will have a guest speaker, Denny Riley, who is a 
 Vietnam Veteran and a member of the Veterans Speaker's Alliance.  The film 
 and speaker will take about one to one and a half hours.  The rest of the 
 time will be devoted to small and large group discussion about our current 
 struggle in response to "the war on terrorism."\n\n 
 https://www.indybay.org/newsitems/2004/02/03/4193.php
SUMMARY:NOAM CHOMSKY 9/11 Speech and Denny Riley, a VIETNAM VETERAN, and special guest s
LOCATION:Fellowship of Humanity - 390 27th St. (between Telegraph and Broadway)
URL:https://www.indybay.org/newsitems/2004/02/03/4193.php
DTSTART:20020219T030000Z
DTEND:20020219T050000Z
END:VEVENT
END:VCALENDAR
