BEGIN:VCALENDAR
VERSION:2.0
X-WR-CALNAME:www.indybay.org
PRODID:-//indybay/ical// v1.0//EN
BEGIN:VEVENT
UID:Indybay-41833
SEQUENCE:41833
CREATED:20040705T141200Z
DESCRIPTION:Exploding in North America, Japan, Europe, Asia,  New Zealand, Australia, 
 South America...   Global Opportunity!    Exclusive Technology!    Trillion 
 Dollar Industry!    Paid Weekly Up To $50,000!    Turn-Key Internet 
 Marketing System and Training!   click http://www.ichatglobal.com/tedy\n 
 https://www.indybay.org/newsitems/2004/07/05/41833.php
SUMMARY:www.ichatglobal.com/tedy
LOCATION:Exploding in North America, Japan, Europe, Asia,  New Zealand, Australia, 
 South America...   Global Opportunity!    Exclusive Technology!    Trillion 
 Dollar Industry!    Paid Weekly Up To $50,000!    Turn-Key Internet 
 Marketing System and Training!   http://www.ichatglobal.com/tedy
URL:https://www.indybay.org/newsitems/2004/07/05/41833.php
DTSTART:20040705T190000Z
DTEND:20040705T200000Z
END:VEVENT
END:VCALENDAR
