BEGIN:VCALENDAR
VERSION:2.0
X-WR-CALNAME:www.indybay.org
PRODID:-//indybay/ical// v1.0//EN
BEGIN:VEVENT
UID:Indybay-41773
SEQUENCE:41773
CREATED:20040703T202200Z
DESCRIPTION:Go to our website at http://www.sp-usa.org/orgconf/ for all the info!\n 
 https://www.indybay.org/newsitems/2004/07/03/41773.php
SUMMARY:2004 Socialist Organizing Conference
LOCATION:Park Plaza Hotel 150 Hegenberger Rd. Oakland, CA  
URL:https://www.indybay.org/newsitems/2004/07/03/41773.php
DTSTART:20040712T040000Z
DTEND:20040712T120000Z
END:VEVENT
END:VCALENDAR
