BEGIN:VCALENDAR
VERSION:2.0
X-WR-CALNAME:www.indybay.org
PRODID:-//indybay/ical// v1.0//EN
BEGIN:VEVENT
UID:Indybay-41463
SEQUENCE:41463
CREATED:20040629T220100Z
DESCRIPTION:ANSWER Film Series: San Francisco Premiere of  “Until When…”  With a 
 report by Jess Ghannam, one of the filmmakers and President of the 
 Arab-American Anti-Discrimination Committee, SF  Set during the current 
 Intifada, this documentary follows four Palestinian  families living in 
 Dheisheh Refugee Camp near Bethlehem. Fadi is thirteen  and cares for his 
 four younger brothers, the Hammash family pass on the  lessons of life with 
 humor and passion, Sana is a single woman who endures  long commutes to do 
 community work, and Emad and Hanan are a young couple  trying to shield 
 their daughter from the harsh realities of the occupation.  They talk about 
 their past and discuss the future with humor, sorrow,  frustration and 
 hope. until when... paints an intimate in-depth portrait of  Palestinian 
 lives today.  (Documentary, Arabic with English subtitles, 76 min., 
 Palestine/USA 2004)  For more info, call 415-821-6545.$5 donation  \n 
 https://www.indybay.org/newsitems/2004/06/29/41463.php
SUMMARY:SF Premiere - New Film on Palestine: "Until When..."
LOCATION:ATA (Artists' Television Access)  992 Valencia St.at 21st  
URL:https://www.indybay.org/newsitems/2004/06/29/41463.php
DTSTART:20040716T023000Z
DTEND:20040716T043000Z
END:VEVENT
END:VCALENDAR
