BEGIN:VCALENDAR
VERSION:2.0
X-WR-CALNAME:www.indybay.org
PRODID:-//indybay/ical// v1.0//EN
BEGIN:VEVENT
UID:Indybay-41263
SEQUENCE:41263
CREATED:20040626T235300Z
DESCRIPTION:THE CORPORATION  -- a film by Mark Achbar, Jennifer Abbott and Joel Bakan 
 --  is coming to a theater near you. Visit 
 http://www.TheCorporation.com/usa for more details.  Check out the trailer 
 at http://www.thecorporation.com/trailer/  Winner of the AUDIENCE AWARD for 
 DOCUMENTARY in  WORLD CINEMA at the 2004 SUNDANCE FILM FESTIVAL and 
 numerous other awards including 7 audience choice awards.  Based on the 
 book: \\\"The Corporation: The Pathological Pursuit of Profit and Power\\\" 
 by Joel Bakan. Available at 
 http://gallery.bcentral.com/Gallery/ProductDetails.aspx?GID=5059307&PID=3128968&page=1&sortOrder=0 
  A darkly amusing account of the institution\\\'s evolution as a legal 
 \\\"person,\\\" THE CORPORATION is a powerful indictment of the roots of 
 corporate power. So, what kind of person is it? The filmmakers conclude 
 that a person whose prime directive is to produce ever-increasing profit 
 for it\\\'s shareholders -- regardless of the cost to people or the planet 
 -- fits the diagnostic criteria of a psychopath. Featuring interviews with 
 CEO\\\'s and top-level executives from some of the worlds largest 
 corporations and critical thinkers: Noam Chomsky, Peter Drucker, Milton 
 Friedman, Naomi Klein, Vandana Shiva, Steve Wilson, Jane Akre  and 
 muckraking filmmaker Michael Moore. More info at 
 http://www.TheCorporation.com. Join us! 
 http://www.hellocoolworld.com/thecorporation/maillist.cfm  Talk. Learn. 
 Act. Check out our interactive website features at The Corporation 
 interactive: i-Corp http://www.thecorporation.com/icorp/ Visit DocBack 
 http://www.docback.org/main.html    Contact Campaigns@thecorporation.com  
 \n https://www.indybay.org/newsitems/2004/06/26/41263.php
SUMMARY:The Corporation
LOCATION:Coming to a theater near you!!! Visit http://www.TheCorporation.com/usa for 
 more details. 
URL:https://www.indybay.org/newsitems/2004/06/26/41263.php
DTSTART:20040626T190000Z
DTEND:20040626T200000Z
END:VEVENT
END:VCALENDAR
